BEGIN:VCALENDAR
VERSION:2.0
PRODID:-//hacksw/handcal//NONSGML v1.0//EN
CALSCALE:GREGORIAN
BEGIN:VEVENT
X-WR-TIMEZONE:Europe/Madrid
DTSTART:20170323T000000
DTEND:20170323T000000
URL;VALUE=URI:https://www.centrodeestudiosandaluces.es/cea-actividades/seminarios-talleres/2366
LOCATION:Diputación de Granada. C/ Periodista Barrios Talavera\, 1. 18014 Granada
SUMMARY:Fundación Pública Andaluza Centro de Estudios Andaluces Actividad ACT082/17
DESCRIPTION:Jornada 'Protección de datos personales como límite al derecho de acceso a la información pública: aplicaciones prácticas' Jueves 23 de marzo de 2017\, de 9:30 a 14 horas
DTSTAMP:20260422T152411
UID:69e8cbfb5a435
END:VEVENT
END:VCALENDAR