BEGIN:VCALENDAR
VERSION:2.0
PRODID:-//hacksw/handcal//NONSGML v1.0//EN
CALSCALE:GREGORIAN
BEGIN:VEVENT
X-WR-TIMEZONE:Europe/Madrid
DTSTART:20260422T104357
DTEND:20260422T104357
URL;VALUE=URI:https://www.centrodeestudiosandaluces.es/cea-actividades/exposiciones
LOCATION:
SUMMARY:Fundación Pública Andaluza Centro de Estudios Andaluces Actividad 
DESCRIPTION: 
DTSTAMP:20260422T104357
UID:69e88a4d78013
END:VEVENT
END:VCALENDAR