BEGIN:VCALENDAR
VERSION:2.0
PRODID:-//hacksw/handcal//NONSGML v1.0//EN
CALSCALE:GREGORIAN
BEGIN:VEVENT
X-WR-TIMEZONE:Europe/Madrid
DTSTART:20230607T000000
DTEND:20230626T000000
URL;VALUE=URI:https://www.centrodeestudiosandaluces.es/cea-actividades/cursos/3910
LOCATION:Online a través de plataforma virtual (en directo) 
SUMMARY:Fundación Pública Andaluza Centro de Estudios Andaluces Actividad ACT077/23
DESCRIPTION:Curso De Enigma a ChatGPT\; Procesando el lenguaje natural desde un eje multidisciplinar 7\,12\,14\, 21 y 26 de junio
DTSTAMP:20260424T000628
UID:69ea97e4a2848
END:VEVENT
END:VCALENDAR