BEGIN:VCALENDAR
VERSION:2.0
PRODID:-//hacksw/handcal//NONSGML v1.0//EN
CALSCALE:GREGORIAN
BEGIN:VEVENT
X-WR-TIMEZONE:Europe/Madrid
DTSTART:20221013T000000
DTEND:20221110T000000
URL;VALUE=URI:https://www.centrodeestudiosandaluces.es/cea-actividades/cursos/3754
LOCATION:Online a través de plataforma virtual (en directo) 
SUMMARY:Fundación Pública Andaluza Centro de Estudios Andaluces Actividad ACT115/22
DESCRIPTION:Páginas web y visualizaciones interactivas con R 13\, 18\,20\,25\,27 de octubre y 8\,10 de noviembre.
DTSTAMP:20260423T080138
UID:69e9b5c290cb4
END:VEVENT
END:VCALENDAR