BEGIN:VCALENDAR
VERSION:2.0
PRODID:-//hacksw/handcal//NONSGML v1.0//EN
CALSCALE:GREGORIAN
BEGIN:VEVENT
X-WR-TIMEZONE:Europe/Madrid
DTSTART:20220524T000000
DTEND:20220607T000000
URL;VALUE=URI:https://www.centrodeestudiosandaluces.es/cea-actividades/cursos/3711
LOCATION:Online a través de plataforma virtual (en directo) 
SUMMARY:Fundación Pública Andaluza Centro de Estudios Andaluces Actividad ACT069/22
DESCRIPTION:Iniciación al análisis de datos con R 24\, 26\, 31 de mayo y 2 y 7 de junio de 2022
DTSTAMP:20260424T000509
UID:69ea97950c24b
END:VEVENT
END:VCALENDAR