BEGIN:VCALENDAR
VERSION:2.0
PRODID:-//hacksw/handcal//NONSGML v1.0//EN
CALSCALE:GREGORIAN
BEGIN:VEVENT
X-WR-TIMEZONE:Europe/Madrid
DTSTART:20220510T000000
DTEND:20220602T000000
URL;VALUE=URI:https://www.centrodeestudiosandaluces.es/cea-actividades/cursos/3708
LOCATION:Online a través de plataforma virtual (en directo) 
SUMMARY:Fundación Pública Andaluza Centro de Estudios Andaluces Actividad ACT066/22
DESCRIPTION:curso Analitica de datos con Power BI Desktop(inicial) 10\,12\, 17\, 19\, 24\, 26 y 31 de mayo y 2 de junio
DTSTAMP:20260423T080108
UID:69e9b5a44c5b7
END:VEVENT
END:VCALENDAR