BEGIN:VCALENDAR
VERSION:2.0
PRODID:-//hacksw/handcal//NONSGML v1.0//EN
CALSCALE:GREGORIAN
BEGIN:VEVENT
X-WR-TIMEZONE:Europe/Madrid
DTSTART:20260421T173716
DTEND:20260421T173716
URL;VALUE=URI:https://www.centrodeestudiosandaluces.es/cea-actividades/cursos
LOCATION:
SUMMARY:Fundación Pública Andaluza Centro de Estudios Andaluces Actividad 
DESCRIPTION: 
DTSTAMP:20260421T173716
UID:69e799acaa290
END:VEVENT
END:VCALENDAR