BEGIN:VCALENDAR
VERSION:2.0
PRODID:-//hacksw/handcal//NONSGML v1.0//EN
CALSCALE:GREGORIAN
BEGIN:VEVENT
X-WR-TIMEZONE:Europe/Madrid
DTSTART:20240901T000000
DTEND:20240903T000000
URL;VALUE=URI:https://www.centrodeestudiosandaluces.es/cea-actividades/cursos/3698
LOCATION:Online a través de plataforma virtual
SUMMARY:Fundación Pública Andaluza Centro de Estudios Andaluces Actividad ACT056/22
DESCRIPTION:Microcurso Introducción a Git y Github Disponible todo el año excepto los meses de agosto y diciembre
DTSTAMP:20260423T080056
UID:69e9b598805f6
END:VEVENT
END:VCALENDAR