BEGIN:VCALENDAR
VERSION:2.0
PRODID:-//hacksw/handcal//NONSGML v1.0//EN
CALSCALE:GREGORIAN
BEGIN:VEVENT
X-WR-TIMEZONE:Europe/Madrid
DTSTART:20211026T000000
DTEND:20211109T000000
URL;VALUE=URI:https://www.centrodeestudiosandaluces.es/cea-actividades/cursos/3565
LOCATION:Online a través de plataforma virtual (en directo) 
SUMMARY:Fundación Pública Andaluza Centro de Estudios Andaluces Actividad ACT140/21
DESCRIPTION:Curso Diseño y Técnicas de muestreo estadístico 26\, 27\, 28 de octubre y 2\,3\,4 y 9 de noviembre de 2021
DTSTAMP:20260423T080035
UID:69e9b583ece6c
END:VEVENT
END:VCALENDAR