BEGIN:VCALENDAR
VERSION:2.0
PRODID:-//hacksw/handcal//NONSGML v1.0//EN
CALSCALE:GREGORIAN
BEGIN:VEVENT
X-WR-TIMEZONE:Europe/Madrid
DTSTART:20210617T000000
DTEND:20210622T000000
URL;VALUE=URI:https://www.centrodeestudiosandaluces.es/cea-actividades/cursos/3540
LOCATION:Campus elearning. Universidad Internacional de Andalucía
SUMMARY:Fundación Pública Andaluza Centro de Estudios Andaluces Actividad ACT117/21
DESCRIPTION:Escuela Stata (2º Edición): Modelos avanzados para datos de panel con STATA 17\, 18\, 21 y 22 de junio de 2021
DTSTAMP:20260424T000422
UID:69ea9766694d8
END:VEVENT
END:VCALENDAR