BEGIN:VCALENDAR
VERSION:2.0
PRODID:-//hacksw/handcal//NONSGML v1.0//EN
CALSCALE:GREGORIAN
BEGIN:VEVENT
X-WR-TIMEZONE:Europe/Madrid
DTSTART:20211013T000000
DTEND:20211110T000000
URL;VALUE=URI:https://www.centrodeestudiosandaluces.es/cea-actividades/cursos/3503
LOCATION:Online a través de plataforma virtual (en directo) 
SUMMARY:Fundación Pública Andaluza Centro de Estudios Andaluces Actividad ACT080/21
DESCRIPTION:Curso 'Iniciación a Python' 13\,18\,20\,25\,27 de octubre y 3\,8\,10 de noviembre
DTSTAMP:20260423T080218
UID:69e9b5ea60ae1
END:VEVENT
END:VCALENDAR