BEGIN:VCALENDAR
VERSION:2.0
PRODID:-//hacksw/handcal//NONSGML v1.0//EN
CALSCALE:GREGORIAN
BEGIN:VEVENT
X-WR-TIMEZONE:Europe/Madrid
DTSTART:20211103T000000
DTEND:20211112T000000
URL;VALUE=URI:https://www.centrodeestudiosandaluces.es/cea-actividades/cursos/3497
LOCATION:Online a través de plataforma virtual (en directo) 
SUMMARY:Fundación Pública Andaluza Centro de Estudios Andaluces Actividad ACT074/21
DESCRIPTION:Curso: Análisis reproducibles y generación de informes con R y  Rmarkdown 3\,5\,8\,10\,12 de Noviembre
DTSTAMP:20260425T141331
UID:69ecafeb5b091
END:VEVENT
END:VCALENDAR