BEGIN:VCALENDAR
VERSION:2.0
PRODID:-//hacksw/handcal//NONSGML v1.0//EN
CALSCALE:GREGORIAN
BEGIN:VEVENT
X-WR-TIMEZONE:Europe/Madrid
DTSTART:20210414T000000
DTEND:20210428T000000
URL;VALUE=URI:https://www.centrodeestudiosandaluces.es/cea-actividades/cursos/3473
LOCATION:Curso online a través de plataforma elearning
SUMMARY:Fundación Pública Andaluza Centro de Estudios Andaluces Actividad ACT050/21
DESCRIPTION:Curso 'Iniciación a R' 14\, 16\, 21\, 23\, 28 de abril de 2021
DTSTAMP:20260420T121939
UID:69e5fdbbbfc33
END:VEVENT
END:VCALENDAR