BEGIN:VCALENDAR
VERSION:2.0
PRODID:-//hacksw/handcal//NONSGML v1.0//EN
CALSCALE:GREGORIAN
BEGIN:VEVENT
X-WR-TIMEZONE:Europe/Madrid
DTSTART:20110308T000000
DTEND:20110308T000000
URL;VALUE=URI:https://www.centrodeestudiosandaluces.es/cea-actividades/503
LOCATION:Centro Andaluz de Arte Contemporáneo. Despacho del Rey. Avda. Americo Vespucio\, 2. Sevilla
SUMMARY:Fundación Pública Andaluza Centro de Estudios Andaluces Actividad ACT055/11
DESCRIPTION:XI Foro de expertos"Nacer y morir: dos momentos de la vida vistos desde la perspectiva de la bioética y el Derecho" 8 de marzo de 2011. 12:00 h. - 14:00 h.
DTSTAMP:20260423T025448
UID:69e96dd8ba4ca
END:VEVENT
END:VCALENDAR