BEGIN:VCALENDAR
VERSION:2.0
PRODID:-//hacksw/handcal//NONSGML v1.0//EN
CALSCALE:GREGORIAN
BEGIN:VEVENT
X-WR-TIMEZONE:Europe/Madrid
DTSTART:20260622T000000
DTEND:20260715T000000
URL;VALUE=URI:https://www.centrodeestudiosandaluces.es/cea-actividades/4437
LOCATION:plataforma moodle Centra
SUMMARY:Fundación Pública Andaluza Centro de Estudios Andaluces Actividad ACT102/26
DESCRIPTION:Curso 'Vibe Coding para Humanistas: programar con IA sin saber programar' 22\, 24\, 29 de junio y 1\, 6\, 8\, 13 y 15 de julio de 2026 (16 horas)
DTSTAMP:20260423T104623
UID:69e9dc5f883b6
END:VEVENT
END:VCALENDAR