BEGIN:VCALENDAR
VERSION:2.0
PRODID:-//hacksw/handcal//NONSGML v1.0//EN
CALSCALE:GREGORIAN
BEGIN:VEVENT
X-WR-TIMEZONE:Europe/Madrid
DTSTART:20260311T093000
DTEND:20260313T200000
URL;VALUE=URI:https://www.centrodeestudiosandaluces.es/cea-actividades/4339
LOCATION:Salón del Almirante. Real Alcázar de Sevilla
SUMMARY:Fundación Pública Andaluza Centro de Estudios Andaluces Actividad ACT013/26
DESCRIPTION:Congreso Internacional 'Las bodas Carlos V en Sevilla' Días 11\, 12 y 13 de marzo de 2026
DTSTAMP:20260420T124327
UID:69e6034f1eeaf
END:VEVENT
END:VCALENDAR