BEGIN:VCALENDAR
VERSION:2.0
PRODID:-//hacksw/handcal//NONSGML v1.0//EN
CALSCALE:GREGORIAN
BEGIN:VEVENT
X-WR-TIMEZONE:Europe/Madrid
DTSTART:20110616T000000
DTEND:20110616T000000
URL;VALUE=URI:https://www.centrodeestudiosandaluces.es/cea-actividades/425
LOCATION:Centro de Estudios Andaluces. C/ Bailén\, 50. 41001 Sevilla.
SUMMARY:Fundación Pública Andaluza Centro de Estudios Andaluces Actividad ACT057/11
DESCRIPTION:XIII Foro de Expertos "Cambio Social y tendencias electorales en Andalucía" 16 de junio de 2011. De 11:30h. a 14:00h.
DTSTAMP:20260422T193431
UID:69e906a71d96a
END:VEVENT
END:VCALENDAR