BEGIN:VCALENDAR
VERSION:2.0
PRODID:-//hacksw/handcal//NONSGML v1.0//EN
CALSCALE:GREGORIAN
BEGIN:VEVENT
X-WR-TIMEZONE:Europe/Madrid
DTSTART:20231127T093000
DTEND:20231127T131500
URL;VALUE=URI:https://www.centrodeestudiosandaluces.es/cea-actividades/3980
LOCATION:Aulario del IAAP. Antiguo Pabellón de Puerto Rico. Calle Johannes Kepler\, 3. Sevilla
SUMMARY:Fundación Pública Andaluza Centro de Estudios Andaluces Actividad ACT145/23
DESCRIPTION:Jornada Reto Demografico en Andalucia Día 27 de noviembre\, de 9.30 a 13.15h
DTSTAMP:20260425T012619
UID:69ebfc1b0a41e
END:VEVENT
END:VCALENDAR