BEGIN:VCALENDAR
VERSION:2.0
PRODID:-//hacksw/handcal//NONSGML v1.0//EN
CALSCALE:GREGORIAN
BEGIN:VEVENT
X-WR-TIMEZONE:Europe/Madrid
DTSTART:20231113T193000
DTEND:20231113T210000
URL;VALUE=URI:https://www.centrodeestudiosandaluces.es/cea-actividades/3972
LOCATION:Biblioteca Infanta Elena. Avenida de María Luisa 8\, 41013 Sevilla
SUMMARY:Fundación Pública Andaluza Centro de Estudios Andaluces Actividad ACT138/23
DESCRIPTION:Presentación del libro 'Viaje por España hasta el Sáhara' de la viajera Matilda Betham-Edwards 13 de noviembre de 2023\, de19:30 a 21:00 h
DTSTAMP:20260425T012640
UID:69ebfc303ed26
END:VEVENT
END:VCALENDAR