BEGIN:VCALENDAR
VERSION:2.0
PRODID:-//hacksw/handcal//NONSGML v1.0//EN
CALSCALE:GREGORIAN
BEGIN:VEVENT
X-WR-TIMEZONE:Europe/Madrid
DTSTART:20231108T090000
DTEND:20231108T140000
URL;VALUE=URI:https://www.centrodeestudiosandaluces.es/cea-actividades/3970
LOCATION:Casa de la Cultura. C/Sevilla\, 11. Moriles (Córdoba)
SUMMARY:Fundación Pública Andaluza Centro de Estudios Andaluces Actividad ACT136/23
DESCRIPTION:Jornada Haciendo redes para la despoblación en Andalucía Miércoles\, 8 de noviembre\, de 9.00 a 14.00 h
DTSTAMP:20260425T012651
UID:69ebfc3b3c353
END:VEVENT
END:VCALENDAR