BEGIN:VCALENDAR
VERSION:2.0
PRODID:-//hacksw/handcal//NONSGML v1.0//EN
CALSCALE:GREGORIAN
BEGIN:VEVENT
X-WR-TIMEZONE:Europe/Madrid
DTSTART:20231028T110000
DTEND:20231028T203000
URL;VALUE=URI:https://www.centrodeestudiosandaluces.es/cea-actividades/3963
LOCATION:Abadía del Sacromonte (Abadía del Sacromonte s/n. Granada)
SUMMARY:Fundación Pública Andaluza Centro de Estudios Andaluces Actividad ACT129/23
DESCRIPTION:I Seminario de Estudios Patrimoniales Cofrades - La Semana Santa de Granada. Patrimonio devocional 28 de octubre 2023. De 11 a 14:30h y de 17 a 20:30h.
DTSTAMP:20260420T204402
UID:69e673f2f2fbc
END:VEVENT
END:VCALENDAR