BEGIN:VCALENDAR
VERSION:2.0
PRODID:-//hacksw/handcal//NONSGML v1.0//EN
CALSCALE:GREGORIAN
BEGIN:VEVENT
X-WR-TIMEZONE:Europe/Madrid
DTSTART:20230711T000000
DTEND:20230714T000000
URL;VALUE=URI:https://www.centrodeestudiosandaluces.es/cea-actividades/3957
LOCATION:UNIA La Rábida. Paraje de La Rábida s/n\, Palos de la Frontera (Huelva)
SUMMARY:Fundación Pública Andaluza Centro de Estudios Andaluces Actividad ACT123/23
DESCRIPTION:Curso de Verano UNIA - La Rábida. Andalucía en la Historia y novela histórica Del 11 al 14 de julio de 2023
DTSTAMP:20260425T012721
UID:69ebfc59bd180
END:VEVENT
END:VCALENDAR