BEGIN:VCALENDAR
VERSION:2.0
PRODID:-//hacksw/handcal//NONSGML v1.0//EN
CALSCALE:GREGORIAN
BEGIN:VEVENT
X-WR-TIMEZONE:Europe/Madrid
DTSTART:20230929T000000
DTEND:20230929T000000
URL;VALUE=URI:https://www.centrodeestudiosandaluces.es/cea-actividades/3951
LOCATION:Museo Casa de los Tiros. Calle Pavaneras 19
SUMMARY:Fundación Pública Andaluza Centro de Estudios Andaluces Actividad ACT117/23
DESCRIPTION:Presentación de la revista Andalucía en al Historia nº 80 'Viajeros andaluces\, Historia de una fascinación' 29 de septiembre de 2023\, de 12:00 a 14:00h.
DTSTAMP:20260420T203853
UID:69e672bd7b5dc
END:VEVENT
END:VCALENDAR