BEGIN:VCALENDAR
VERSION:2.0
PRODID:-//hacksw/handcal//NONSGML v1.0//EN
CALSCALE:GREGORIAN
BEGIN:VEVENT
X-WR-TIMEZONE:Europe/Madrid
DTSTART:20230620T200000
DTEND:20230620T213000
URL;VALUE=URI:https://www.centrodeestudiosandaluces.es/cea-actividades/3932
LOCATION:Museo de la Autonomía de Andalucía. Avda. Blas Infante\, s/n (Coria del Río / Puebla del Río\, Sevilla)
SUMMARY:Fundación Pública Andaluza Centro de Estudios Andaluces Actividad ACT099/23
DESCRIPTION:Conferencia 'La voz de Dar al Farah' Ciclo Blas Infante\, vida y pensamiento Martes\, 20 de junio\, de 20:00 a 21:30 h.
DTSTAMP:20260424T173452
UID:69eb8d9c05945
END:VEVENT
END:VCALENDAR