BEGIN:VCALENDAR
VERSION:2.0
PRODID:-//hacksw/handcal//NONSGML v1.0//EN
CALSCALE:GREGORIAN
BEGIN:VEVENT
X-WR-TIMEZONE:Europe/Madrid
DTSTART:20230703T000000
DTEND:20230705T000000
URL;VALUE=URI:https://www.centrodeestudiosandaluces.es/cea-actividades/3930
LOCATION:Sede Olavide en Carmona. C/ Ramón y Cajal\, 15. Carmona
SUMMARY:Fundación Pública Andaluza Centro de Estudios Andaluces Actividad ACT097/23
DESCRIPTION:Curso de verano UPO: Comunicación política para un super-año electoral (2ª edición) del 3 al 5 de julio de 2023
DTSTAMP:20260425T012618
UID:69ebfc1aa85f5
END:VEVENT
END:VCALENDAR