BEGIN:VCALENDAR
VERSION:2.0
PRODID:-//hacksw/handcal//NONSGML v1.0//EN
CALSCALE:GREGORIAN
BEGIN:VEVENT
X-WR-TIMEZONE:Europe/Madrid
DTSTART:20230619T200000
DTEND:20230619T213000
URL;VALUE=URI:https://www.centrodeestudiosandaluces.es/cea-actividades/3927
LOCATION:Fundación Blas Infante. C/ Sol 103\, 41004 Sevilla
SUMMARY:Fundación Pública Andaluza Centro de Estudios Andaluces Actividad ACT094/23
DESCRIPTION:Conferencia 'Blas Infante y el despertar de Andalucía en la prensa republicana'. Ciclo Blas Infante\, vida y pensamiento Lunes\, 19 de junio\, de 20:00 a 21:30 h.
DTSTAMP:20260424T173451
UID:69eb8d9b947a4
END:VEVENT
END:VCALENDAR