BEGIN:VCALENDAR
VERSION:2.0
PRODID:-//hacksw/handcal//NONSGML v1.0//EN
CALSCALE:GREGORIAN
BEGIN:VEVENT
X-WR-TIMEZONE:Europe/Madrid
DTSTART:20230519T200000
DTEND:20230519T213000
URL;VALUE=URI:https://www.centrodeestudiosandaluces.es/cea-actividades/3922
LOCATION:Fundación Blas Infante. C/ Sol\,103. Sevilla
SUMMARY:Fundación Pública Andaluza Centro de Estudios Andaluces Actividad ACT089/23
DESCRIPTION:Representación teatral de 'Motamid. Último rey de Sevilla'\, de Blas Infante 19 de mayo de 2023\, de 20:00 a 21:30 h.
DTSTAMP:20260425T012650
UID:69ebfc3ad2f14
END:VEVENT
END:VCALENDAR