BEGIN:VCALENDAR
VERSION:2.0
PRODID:-//hacksw/handcal//NONSGML v1.0//EN
CALSCALE:GREGORIAN
BEGIN:VEVENT
X-WR-TIMEZONE:Europe/Madrid
DTSTART:20230427T000000
DTEND:20230428T000000
URL;VALUE=URI:https://www.centrodeestudiosandaluces.es/cea-actividades/3915
LOCATION:Sala Argüelles. Aulario la Bomba. Universidad de Cádiz
SUMMARY:Fundación Pública Andaluza Centro de Estudios Andaluces Actividad ACT082/23
DESCRIPTION:IV Congreso de Jóvenes historiadores y americanistas 27 y 28 de abril de 2023
DTSTAMP:20260425T012752
UID:69ebfc785620f
END:VEVENT
END:VCALENDAR