BEGIN:VCALENDAR
VERSION:2.0
PRODID:-//hacksw/handcal//NONSGML v1.0//EN
CALSCALE:GREGORIAN
BEGIN:VEVENT
X-WR-TIMEZONE:Europe/Madrid
DTSTART:20230328T120000
DTEND:20230328T133000
URL;VALUE=URI:https://www.centrodeestudiosandaluces.es/cea-actividades/3902
LOCATION:Museo de la Ciudad de Antequera. Palacio de Nájera. Plaza del Coso Viejo\, Antequera
SUMMARY:Fundación Pública Andaluza Centro de Estudios Andaluces Actividad ACT069/23
DESCRIPTION:XX Aniversario. Presentación de la revista 'Andalucía en la Historia': Archivos Andaluces en Antequera 28 de marzo\, de 12:00 a 13:30 h.
DTSTAMP:20260425T012506
UID:69ebfbd29419d
END:VEVENT
END:VCALENDAR