BEGIN:VCALENDAR
VERSION:2.0
PRODID:-//hacksw/handcal//NONSGML v1.0//EN
CALSCALE:GREGORIAN
BEGIN:VEVENT
X-WR-TIMEZONE:Europe/Madrid
DTSTART:20230315T090000
DTEND:20230317T150000
URL;VALUE=URI:https://www.centrodeestudiosandaluces.es/cea-actividades/3901
LOCATION:Archivo General de Andalucía. Camino de los Descubrimientos\, 8 – 41092 Sevilla
SUMMARY:Fundación Pública Andaluza Centro de Estudios Andaluces Actividad ACT068/23
DESCRIPTION:III Congreso de la Asociación Andaluza de Archiveros 
DTSTAMP:20260425T012554
UID:69ebfc0247f8e
END:VEVENT
END:VCALENDAR