BEGIN:VCALENDAR
VERSION:2.0
PRODID:-//hacksw/handcal//NONSGML v1.0//EN
CALSCALE:GREGORIAN
BEGIN:VEVENT
X-WR-TIMEZONE:Europe/Madrid
DTSTART:20230223T120000
DTEND:20230223T140000
URL;VALUE=URI:https://www.centrodeestudiosandaluces.es/cea-actividades/3899
LOCATION:Biblioteca. Museo de la Autonomía de Andalucía
SUMMARY:Fundación Pública Andaluza Centro de Estudios Andaluces Actividad ACT066/23
DESCRIPTION:Diálogo con Miguel Ángel Arredonda. Ciclo Arquitectos de nuestra Autonomía 23 de febrero de 2023\, de 12:00 a 14:00 h.
DTSTAMP:20260419T232009
UID:69e5470942de6
END:VEVENT
END:VCALENDAR