BEGIN:VCALENDAR
VERSION:2.0
PRODID:-//hacksw/handcal//NONSGML v1.0//EN
CALSCALE:GREGORIAN
BEGIN:VEVENT
X-WR-TIMEZONE:Europe/Madrid
DTSTART:20230928T000000
DTEND:20230929T000000
URL;VALUE=URI:https://www.centrodeestudiosandaluces.es/cea-actividades/3865
LOCATION:Auditorio Juan Carlos Garvayo. Centro de Desarrollo Turístico y Empresarial de Motril. Plaza Ruperta Feriche\, Motril\, Granada
SUMMARY:Fundación Pública Andaluza Centro de Estudios Andaluces Actividad ACT033/23
DESCRIPTION:II Encuentro Doctoral de la Escuela de Doctorado EDFES 28 y 29 de septiembre de 2023
DTSTAMP:20260421T005714
UID:69e6af4a60b71
END:VEVENT
END:VCALENDAR