BEGIN:VCALENDAR
VERSION:2.0
PRODID:-//hacksw/handcal//NONSGML v1.0//EN
CALSCALE:GREGORIAN
BEGIN:VEVENT
X-WR-TIMEZONE:Europe/Madrid
DTSTART:20221216T203000
DTEND:20221216T220000
URL;VALUE=URI:https://www.centrodeestudiosandaluces.es/cea-actividades/3825
LOCATION:Peña Cultural Flamenca de Punta Umbría. Bda. San Sebastián. C/Marea\, s/n. Punta Umbría (Huelva)
SUMMARY:Fundación Pública Andaluza Centro de Estudios Andaluces Actividad ACT182/22
DESCRIPTION:Presentación del libro 'Y sin Huelva no hay fandango'. Punta Umbria Día 16 de diciembre\, de 20.30h a 22.00h
DTSTAMP:20260425T012721
UID:69ebfc5964d00
END:VEVENT
END:VCALENDAR