BEGIN:VCALENDAR
VERSION:2.0
PRODID:-//hacksw/handcal//NONSGML v1.0//EN
CALSCALE:GREGORIAN
BEGIN:VEVENT
X-WR-TIMEZONE:Europe/Madrid
DTSTART:20221209T200000
DTEND:20221209T213000
URL;VALUE=URI:https://www.centrodeestudiosandaluces.es/cea-actividades/3823
LOCATION:Museo de Arte Flamenco Juan Breva. C/ Ramón Franquelo\, 4. Málaga
SUMMARY:Fundación Pública Andaluza Centro de Estudios Andaluces Actividad ACT180/22
DESCRIPTION:Presentación del libro 'Y sin Huelva no hay fandango'. Málaga 9 de diciembre de 2022. De 20.00 a 21.30h
DTSTAMP:20260425T012758
UID:69ebfc7ea3e40
END:VEVENT
END:VCALENDAR