BEGIN:VCALENDAR
VERSION:2.0
PRODID:-//hacksw/handcal//NONSGML v1.0//EN
CALSCALE:GREGORIAN
BEGIN:VEVENT
X-WR-TIMEZONE:Europe/Madrid
DTSTART:20221202T190000
DTEND:20221202T200000
URL;VALUE=URI:https://www.centrodeestudiosandaluces.es/cea-actividades/3816
LOCATION:Museo de la Autonomía de Andalucía.  Avda. de Blas Infante s/n\, Coria del Río - La Puebla del Río.  Sevilla.
SUMMARY:Fundación Pública Andaluza Centro de Estudios Andaluces Actividad ACT174/22
DESCRIPTION:La manifestación del 4-D de 1977. El sentir del pueblo andaluz. Alejandro Rojas Marcos Viernes\, 2 de diciembre de 2022. De 19:00 a 20:00 horas
DTSTAMP:20260425T012751
UID:69ebfc77ee6de
END:VEVENT
END:VCALENDAR