BEGIN:VCALENDAR
VERSION:2.0
PRODID:-//hacksw/handcal//NONSGML v1.0//EN
CALSCALE:GREGORIAN
BEGIN:VEVENT
X-WR-TIMEZONE:Europe/Madrid
DTSTART:20221124T183000
DTEND:20221124T203000
URL;VALUE=URI:https://www.centrodeestudiosandaluces.es/cea-actividades/3814
LOCATION:Filmoteca de Andalucía\,  C/ Medina y Corella\, nº 5 de Córdoba
SUMMARY:Fundación Pública Andaluza Centro de Estudios Andaluces Actividad ACT172/22
DESCRIPTION:Coloquio Archiveros y periodistas Jueves\, 24 de noviembre\, de 18:30 a 20:30 h.
DTSTAMP:20260425T011841
UID:69ebfa5177e4d
END:VEVENT
END:VCALENDAR