BEGIN:VCALENDAR
VERSION:2.0
PRODID:-//hacksw/handcal//NONSGML v1.0//EN
CALSCALE:GREGORIAN
BEGIN:VEVENT
X-WR-TIMEZONE:Europe/Madrid
DTSTART:20221021T000000
DTEND:20230108T000000
URL;VALUE=URI:https://www.centrodeestudiosandaluces.es/cea-actividades/3802
LOCATION:Casa de la Ciencia. Avda. de María Luisa\, s/n. 41013 Sevilla
SUMMARY:Fundación Pública Andaluza Centro de Estudios Andaluces Actividad ACT160/22
DESCRIPTION:Exposicion 'Francisco Coello (1822-2022): pionero de la cartografia moderna' Del 21 de octubre al 8 de enero de 2023
DTSTAMP:20260425T012640
UID:69ebfc3097a48
END:VEVENT
END:VCALENDAR