BEGIN:VCALENDAR
VERSION:2.0
PRODID:-//hacksw/handcal//NONSGML v1.0//EN
CALSCALE:GREGORIAN
BEGIN:VEVENT
X-WR-TIMEZONE:Europe/Madrid
DTSTART:20221024T163000
DTEND:20221024T200000
URL;VALUE=URI:https://www.centrodeestudiosandaluces.es/cea-actividades/3801
LOCATION:Aula de Grados. Facultad de Humanidades. Universidad de Huelva. Campus de El Carmen Avda. Tres de Marzo\, s/n
SUMMARY:Fundación Pública Andaluza Centro de Estudios Andaluces Actividad ACT159/22
DESCRIPTION:Coloquio 'Publicar Historia' 24 de octubre de 2022
DTSTAMP:20260425T011830
UID:69ebfa469725d
END:VEVENT
END:VCALENDAR