BEGIN:VCALENDAR
VERSION:2.0
PRODID:-//hacksw/handcal//NONSGML v1.0//EN
CALSCALE:GREGORIAN
BEGIN:VEVENT
X-WR-TIMEZONE:Europe/Madrid
DTSTART:20221122T000000
DTEND:20221124T000000
URL;VALUE=URI:https://www.centrodeestudiosandaluces.es/cea-actividades/3792
LOCATION:Academia de Infantería de Toledo. Cuesta de San Servando S/N. 45071 Toledo
SUMMARY:Fundación Pública Andaluza Centro de Estudios Andaluces Actividad ACT150/22
DESCRIPTION:I Congreso Civico-Militar de Sociología: 'La cohesión en organizaciones jerarquizadas y los nuevos retos sociales en el horizonte 2035' Del 22 al 24 de noviembre de 2022
DTSTAMP:20260425T012349
UID:69ebfb8578751
END:VEVENT
END:VCALENDAR