BEGIN:VCALENDAR
VERSION:2.0
PRODID:-//hacksw/handcal//NONSGML v1.0//EN
CALSCALE:GREGORIAN
BEGIN:VEVENT
X-WR-TIMEZONE:Europe/Madrid
DTSTART:20211213T000000
DTEND:20220119T000000
URL;VALUE=URI:https://www.centrodeestudiosandaluces.es/cea-actividades/3597
LOCATION:Online a través de plataforma virtual (en directo) 
SUMMARY:Fundación Pública Andaluza Centro de Estudios Andaluces Actividad ACT172/21
DESCRIPTION:Curso Análisis avanzado de datos con Graphext 13\, 15 de diciembre\, 10\,12\,17 y 19 de enero
DTSTAMP:20260423T060600
UID:69e99aa8543d2
END:VEVENT
END:VCALENDAR