BEGIN:VCALENDAR
VERSION:2.0
PRODID:-//hacksw/handcal//NONSGML v1.0//EN
CALSCALE:GREGORIAN
BEGIN:VEVENT
X-WR-TIMEZONE:Europe/Madrid
DTSTART:20210921T193000
DTEND:20210921T203000
URL;VALUE=URI:https://www.centrodeestudiosandaluces.es/cea-actividades/3595
LOCATION:Fundación Cajasol Huelva / Streaming
SUMMARY:Fundación Pública Andaluza Centro de Estudios Andaluces Actividad ACT170/21
DESCRIPTION:Jornada 'Andalucía en la Novela Histórica' Conferencia de José Calvo Poyato Martes\, 21 de septiembre de 2021\, 19:30h.
DTSTAMP:20260423T060702
UID:69e99ae60391b
END:VEVENT
END:VCALENDAR