BEGIN:VCALENDAR
VERSION:2.0
PRODID:-//hacksw/handcal//NONSGML v1.0//EN
CALSCALE:GREGORIAN
BEGIN:VEVENT
X-WR-TIMEZONE:Europe/Madrid
DTSTART:20210915T193000
DTEND:20210915T203000
URL;VALUE=URI:https://www.centrodeestudiosandaluces.es/cea-actividades/3594
LOCATION:Fundación Cajasol Huelva / Streaming
SUMMARY:Fundación Pública Andaluza Centro de Estudios Andaluces Actividad ACT169/21
DESCRIPTION:Jornadas 'Andalucía en la Novela Histórica' Conferencia de Eva Díaz Pérez Miércoles\, 15 de septiembre de 2021\, 19:30h.
DTSTAMP:20260423T060702
UID:69e99ae683985
END:VEVENT
END:VCALENDAR