BEGIN:VCALENDAR
VERSION:2.0
PRODID:-//hacksw/handcal//NONSGML v1.0//EN
CALSCALE:GREGORIAN
BEGIN:VEVENT
X-WR-TIMEZONE:Europe/Madrid
DTSTART:20210914T193000
DTEND:20210914T203000
URL;VALUE=URI:https://www.centrodeestudiosandaluces.es/cea-actividades/3593
LOCATION:Fundación Cajasol Huelva / Streaming
SUMMARY:Fundación Pública Andaluza Centro de Estudios Andaluces Actividad ACT168/21
DESCRIPTION:Jornada 'Andalucía en la Novela Histórica' Conferencia de Juan Cobos Wilkins Martes\, 14 de septiembre de 2021\, 19:30 h.
DTSTAMP:20260423T060606
UID:69e99aae8a7f0
END:VEVENT
END:VCALENDAR