BEGIN:VCALENDAR
VERSION:2.0
PRODID:-//hacksw/handcal//NONSGML v1.0//EN
CALSCALE:GREGORIAN
BEGIN:VEVENT
X-WR-TIMEZONE:Europe/Madrid
DTSTART:20220113T000000
DTEND:20220118T000000
URL;VALUE=URI:https://www.centrodeestudiosandaluces.es/cea-actividades/3588
LOCATION:Curso online a través del Campus Virtual de la Universidad Internacional de Andalucía (UNIA)
SUMMARY:Fundación Pública Andaluza Centro de Estudios Andaluces Actividad ACT163/21
DESCRIPTION:Escuela Stata (2ª Edición): Tópicos avanzados de Epidemiología con Stata 17 13\,14\, 17 y 18 de enero de 2022
DTSTAMP:20260423T060605
UID:69e99aad69cd2
END:VEVENT
END:VCALENDAR