BEGIN:VCALENDAR
VERSION:2.0
PRODID:-//hacksw/handcal//NONSGML v1.0//EN
CALSCALE:GREGORIAN
BEGIN:VEVENT
X-WR-TIMEZONE:Europe/Madrid
DTSTART:20211125T000000
DTEND:20211130T000000
URL;VALUE=URI:https://www.centrodeestudiosandaluces.es/cea-actividades/3586
LOCATION:Curso online a través del Campus Virtual de la Universidad Internacional de Andalucía (UNIA)
SUMMARY:Fundación Pública Andaluza Centro de Estudios Andaluces Actividad ACT161/21
DESCRIPTION:Escuela STATA (2ª edición): Métodos cuantitativos para el Análisis y Evaluación de Políticas Públicas con STATA 17 25\, 26\, 29 y 30 de noviembre de 2021
DTSTAMP:20260423T060606
UID:69e99aae0f334
END:VEVENT
END:VCALENDAR