BEGIN:VCALENDAR
VERSION:2.0
PRODID:-//hacksw/handcal//NONSGML v1.0//EN
CALSCALE:GREGORIAN
BEGIN:VEVENT
X-WR-TIMEZONE:Europe/Madrid
DTSTART:20211108T000000
DTEND:20211202T000000
URL;VALUE=URI:https://www.centrodeestudiosandaluces.es/cea-actividades/3572
LOCATION:Online a través de plataforma virtual (en directo) 
SUMMARY:Fundación Pública Andaluza Centro de Estudios Andaluces Actividad ACT147/21
DESCRIPTION:curso Predicción de datos cuantitativos y temporales con machine learning (R) 8\,10\,15\,17\,23\,25\,30 de noviembre y 2 de diciembre.
DTSTAMP:20260423T060605
UID:69e99aadc0b4f
END:VEVENT
END:VCALENDAR