BEGIN:VCALENDAR
VERSION:2.0
PRODID:-//hacksw/handcal//NONSGML v1.0//EN
CALSCALE:GREGORIAN
BEGIN:VEVENT
X-WR-TIMEZONE:Europe/Madrid
DTSTART:20211122T000000
DTEND:20211130T000000
URL;VALUE=URI:https://www.centrodeestudiosandaluces.es/cea-actividades/3569
LOCATION:Online a través de plataforma virtual (en directo) 
SUMMARY:Fundación Pública Andaluza Centro de Estudios Andaluces Actividad ACT144/21
DESCRIPTION:Curso Análisis y visualización de datos espaciales con R 22\, 24\, 25\, 29 y 30 de noviembre
DTSTAMP:20260423T060701
UID:69e99ae58633c
END:VEVENT
END:VCALENDAR