BEGIN:VCALENDAR
VERSION:2.0
PRODID:-//hacksw/handcal//NONSGML v1.0//EN
CALSCALE:GREGORIAN
BEGIN:VEVENT
X-WR-TIMEZONE:Europe/Madrid
DTSTART:20210922T100000
DTEND:20210922T153000
URL;VALUE=URI:https://www.centrodeestudiosandaluces.es/cea-actividades/3561
LOCATION:Museo de la Autonomía de Andalucía. Avda. Blas Infante s/n. Coria del Río - La Puebla del Río (Sevilla)
SUMMARY:Fundación Pública Andaluza Centro de Estudios Andaluces Actividad ACT136/21
DESCRIPTION:Workshop Clausura Junior Sociology Lab Miercoles 22 de septiembre\, de 10:00  a 15:30 h.
DTSTAMP:20260423T060600
UID:69e99aa8aa80b
END:VEVENT
END:VCALENDAR