BEGIN:VCALENDAR
VERSION:2.0
PRODID:-//hacksw/handcal//NONSGML v1.0//EN
CALSCALE:GREGORIAN
BEGIN:VEVENT
X-WR-TIMEZONE:Europe/Madrid
DTSTART:20210927T200000
DTEND:20210927T210000
URL;VALUE=URI:https://www.centrodeestudiosandaluces.es/cea-actividades/3558
LOCATION:Museo de la Autonomía de Andalucía\, Avda. Blas Infante s/n Coria del Río-La Puebla del Río
SUMMARY:Fundación Pública Andaluza Centro de Estudios Andaluces Actividad ACT133/21
DESCRIPTION:Entrega Premios de Creación Documental IMAGENERA 2020 Lunes\, 27 de septiembre de 2021 a las 20:00h.
DTSTAMP:20260423T060728
UID:69e99b00f1473
END:VEVENT
END:VCALENDAR