BEGIN:VCALENDAR
VERSION:2.0
PRODID:-//hacksw/handcal//NONSGML v1.0//EN
CALSCALE:GREGORIAN
BEGIN:VEVENT
X-WR-TIMEZONE:Europe/Madrid
DTSTART:20211004T000000
DTEND:20211112T000000
URL;VALUE=URI:https://www.centrodeestudiosandaluces.es/cea-actividades/3495
LOCATION:Online a través de plataforma virtual (en directo) 
SUMMARY:Fundación Pública Andaluza Centro de Estudios Andaluces Actividad ACT072/21
DESCRIPTION:Curso Orientación personalizada de la investigación con NVivo 4\, 18 y 25 de octubre y 8 de noviembre clases grupales. Días 7\, 8\, 21\, 22\, 28 y 29 de octubre y 11\,12 de noviembre tutorías personalizadas
DTSTAMP:20260423T060701
UID:69e99ae52dafc
END:VEVENT
END:VCALENDAR